BEGIN:VCALENDAR
VERSION:2.0
PRODID:-//Plone.org//NONSGML plone.app.event//EN
X-WR-TIMEZONE:Europe/Berlin
BEGIN:VEVENT
SUMMARY:Ökum. Weihnachtsbesinnung auf dem Friedhof - 18.00 Uhr
DTSTART;TZID=Europe/Berlin;VALUE=DATE-TIME:20231224T180000
DTEND;TZID=Europe/Berlin;VALUE=DATE-TIME:20231224T190000
DTSTAMP;VALUE=DATE-TIME:20260422T081803Z
UID:8e5631880a9b45ffad97465bd0eb0679@localhost:16090
CATEGORIES:Gottesdienste
CREATED;VALUE=DATE-TIME:20231023T091805Z
LAST-MODIFIED;VALUE=DATE-TIME:20250915T092427Z
URL:https://www.pfarrei-wald.ch/gottesdienste/oekum-weihnachtsbesinnung-au
 f-dem-friedhof-18-00-uhr-1
END:VEVENT
BEGIN:VTIMEZONE
TZID:Europe/Berlin
X-LIC-LOCATION:Europe/Berlin
BEGIN:STANDARD
DTSTART;VALUE=DATE-TIME:20231029T020000
TZNAME:CET
TZOFFSETFROM:+0200
TZOFFSETTO:+0100
END:STANDARD
END:VTIMEZONE
END:VCALENDAR
