BEGIN:VCALENDAR
VERSION:2.0
PRODID:-//Plone.org//NONSGML plone.app.event//EN
X-WR-TIMEZONE:Europe/Berlin
BEGIN:VEVENT
SUMMARY:Dt.-ital. heilige Messe
DTSTART;TZID=Europe/Berlin;VALUE=DATE-TIME:20260516T180000
DTEND;TZID=Europe/Berlin;VALUE=DATE-TIME:20260516T190000
DTSTAMP;VALUE=DATE-TIME:20260419T175705Z
UID:36a112c0101d453b9118f919850e5e40@localhost:16090
RRULE:FREQ=MONTHLY;UNTIL=20260620T000000;BYDAY=+3SA
EXDATE;TZID=Europe/Berlin:20260321T000000
CATEGORIES:Gottesdienste
CREATED;VALUE=DATE-TIME:20251111T074353Z
LAST-MODIFIED;VALUE=DATE-TIME:20251111T075054Z
URL:https://www.pfarrei-wald.ch/gottesdienste/dt-ital-heilige-messe-1
END:VEVENT
BEGIN:VTIMEZONE
TZID:Europe/Berlin
X-LIC-LOCATION:Europe/Berlin
BEGIN:DAYLIGHT
DTSTART;VALUE=DATE-TIME:20260329T030000
TZNAME:CEST
TZOFFSETFROM:+0100
TZOFFSETTO:+0200
END:DAYLIGHT
END:VTIMEZONE
END:VCALENDAR
